BEGIN:VCALENDAR
VERSION:2.0
PRODID:-//Pack-Esel - ECPv6.15.18//NONSGML v1.0//EN
CALSCALE:GREGORIAN
METHOD:PUBLISH
X-ORIGINAL-URL:https://pack-esel.com
X-WR-CALDESC:Veranstaltungen für Pack-Esel
REFRESH-INTERVAL;VALUE=DURATION:PT1H
X-Robots-Tag:noindex
X-PUBLISHED-TTL:PT1H
BEGIN:VTIMEZONE
TZID:Europe/Berlin
BEGIN:DAYLIGHT
TZOFFSETFROM:+0100
TZOFFSETTO:+0200
TZNAME:CEST
DTSTART:20240331T010000
END:DAYLIGHT
BEGIN:STANDARD
TZOFFSETFROM:+0200
TZOFFSETTO:+0100
TZNAME:CET
DTSTART:20241027T010000
END:STANDARD
BEGIN:DAYLIGHT
TZOFFSETFROM:+0100
TZOFFSETTO:+0200
TZNAME:CEST
DTSTART:20250330T010000
END:DAYLIGHT
BEGIN:STANDARD
TZOFFSETFROM:+0200
TZOFFSETTO:+0100
TZNAME:CET
DTSTART:20251026T010000
END:STANDARD
BEGIN:DAYLIGHT
TZOFFSETFROM:+0100
TZOFFSETTO:+0200
TZNAME:CEST
DTSTART:20260329T010000
END:DAYLIGHT
BEGIN:STANDARD
TZOFFSETFROM:+0200
TZOFFSETTO:+0100
TZNAME:CET
DTSTART:20261025T010000
END:STANDARD
END:VTIMEZONE
BEGIN:VEVENT
DTSTART;TZID=Europe/Berlin:20250518T100000
DTEND;TZID=Europe/Berlin:20250518T140000
DTSTAMP:20260422T224349
CREATED:20241112T193612Z
LAST-MODIFIED:20250221T060255Z
UID:2579-1747562400-1747576800@pack-esel.com
SUMMARY:Tour E2 - große Runde um den Eichlberg - noch 8 freie Plätze
DESCRIPTION:Länge ca. 12 km\, ein paar Steigungen \n\n\n\n\n\nUser comments
URL:https://pack-esel.com/termine/tour-e2-grosse-runde-um-den-eichlberg-noch-12-freie-plaetze/
LOCATION:Treffpunkt in Tiefenhüll:\, Tangrintler Hof\, Wanderparkplatz\, Tiefenhüll\, 93155\, Deutschland
CATEGORIES:Halbtagestouren
END:VEVENT
END:VCALENDAR