BEGIN:VCALENDAR
VERSION:2.0
PRODID:-//Pack-Esel - ECPv6.15.18//NONSGML v1.0//EN
CALSCALE:GREGORIAN
METHOD:PUBLISH
X-WR-CALNAME:Pack-Esel
X-ORIGINAL-URL:https://pack-esel.com
X-WR-CALDESC:Veranstaltungen für Pack-Esel
REFRESH-INTERVAL;VALUE=DURATION:PT1H
X-Robots-Tag:noindex
X-PUBLISHED-TTL:PT1H
BEGIN:VTIMEZONE
TZID:Europe/Berlin
BEGIN:DAYLIGHT
TZOFFSETFROM:+0100
TZOFFSETTO:+0200
TZNAME:CEST
DTSTART:20240331T010000
END:DAYLIGHT
BEGIN:STANDARD
TZOFFSETFROM:+0200
TZOFFSETTO:+0100
TZNAME:CET
DTSTART:20241027T010000
END:STANDARD
BEGIN:DAYLIGHT
TZOFFSETFROM:+0100
TZOFFSETTO:+0200
TZNAME:CEST
DTSTART:20250330T010000
END:DAYLIGHT
BEGIN:STANDARD
TZOFFSETFROM:+0200
TZOFFSETTO:+0100
TZNAME:CET
DTSTART:20251026T010000
END:STANDARD
BEGIN:DAYLIGHT
TZOFFSETFROM:+0100
TZOFFSETTO:+0200
TZNAME:CEST
DTSTART:20260329T010000
END:DAYLIGHT
BEGIN:STANDARD
TZOFFSETFROM:+0200
TZOFFSETTO:+0100
TZNAME:CET
DTSTART:20261025T010000
END:STANDARD
END:VTIMEZONE
BEGIN:VEVENT
DTSTART;TZID=Europe/Berlin:20250601T100000
DTEND;TZID=Europe/Berlin:20250601T160000
DTSTAMP:20260422T202106
CREATED:20210621T071342Z
LAST-MODIFIED:20250513T044448Z
UID:1170-1748772000-1748793600@pack-esel.com
SUMMARY:Tour U3 - im Tal der schwarzen Laber zu den Wieslbrucker Felsen - noch 4 freie Plätze
DESCRIPTION:Länge 14 km\, mittelschwer\, ein paar Steigungen
URL:https://pack-esel.com/termine/tour-w3-wissinger-laber-heutal-absolutes-highlight-3/
LOCATION:Treffpunkt beim Uttenhof:\, Uttenhof 1\, 93176 Beratzhausen\, Deutschland
CATEGORIES:Tagestouren
END:VEVENT
BEGIN:VEVENT
DTSTART;TZID=Europe/Berlin:20250608T100000
DTEND;TZID=Europe/Berlin:20250608T133000
DTSTAMP:20260422T202106
CREATED:20240111T100623Z
LAST-MODIFIED:20250517T050043Z
UID:2124-1749376800-1749389400@pack-esel.com
SUMMARY:Tour E1 - rund um den Eichlberg  - ausgebucht
DESCRIPTION:Länge ca. 8 km\, wenig Höhenmeter \n\n\n\n\n\nOLYMPUS DIGITAL CAMERA
URL:https://pack-esel.com/termine/tour-t2-vom-eichlberg-bei-tiefenhuell-nach-wolfertshofen-3/
LOCATION:Treffpunkt in Tiefenhüll:\, Tangrintler Hof\, Wanderparkplatz\, Tiefenhüll\, 93155\, Deutschland
CATEGORIES:Halbtagestouren
END:VEVENT
BEGIN:VEVENT
DTSTART;TZID=Europe/Berlin:20250621T100000
DTEND;TZID=Europe/Berlin:20250621T160000
DTSTAMP:20260422T202106
CREATED:20241112T202731Z
LAST-MODIFIED:20250618T185529Z
UID:2581-1750500000-1750521600@pack-esel.com
SUMMARY:Tour W4 - Bachhaupter Laber / Wildrosengarten - jetzt wieder 2 freie Plätze!
DESCRIPTION:Länge ca. 12 km\, einige Höhenmeter
URL:https://pack-esel.com/termine/tour-w4-bachhaupter-laber-wildrosengarten-noch-12-freie-plaetze/
LOCATION:Treffpunkt in Wolfertshofen:\, Wolfertshofen 11\, 92363 Breitenbrunn\, 92363\, Deutschland
CATEGORIES:Tagestouren
END:VEVENT
BEGIN:VEVENT
DTSTART;TZID=Europe/Berlin:20250622T100000
DTEND;TZID=Europe/Berlin:20250622T163000
DTSTAMP:20260422T202106
CREATED:20241112T203618Z
LAST-MODIFIED:20250505T060232Z
UID:2583-1750586400-1750609800@pack-esel.com
SUMMARY:Tour W5 - Breitenbrunner Laber - Weiße Laber - ausgebucht
DESCRIPTION:Länge ca. 14 km\, kaum Steigungen
URL:https://pack-esel.com/termine/tour-w5-breitenbrunner-laber-weisse-laber-noch-12-freie-plaetze/
LOCATION:Treffpunkt in Wolfertshofen:\, Wolfertshofen 11\, 92363 Breitenbrunn\, 92363\, Deutschland
CATEGORIES:Tagestouren
END:VEVENT
END:VCALENDAR